BEGIN:VCALENDAR
VERSION:2.0
PRODID:-//ChamberMaster//Event Calendar 2.0//EN
METHOD:PUBLISH
X-PUBLISHED-TTL:P1H
REFRESH-INTERVAL:P1H
CALSCALE:GREGORIAN
BEGIN:VTIMEZONE
TZID:America/New_York
BEGIN:DAYLIGHT
RRULE:FREQ=YEARLY;BYMONTH=3;BYDAY=2SU
DTSTART:20070101T000000
TZOFFSETFROM:-0500
TZOFFSETTO:-0400
TZNAME:Eastern Daylight Time
END:DAYLIGHT
BEGIN:STANDARD
RRULE:FREQ=YEARLY;BYMONTH=11;BYDAY=1SU
DTSTART:20070101T000000
TZOFFSETFROM:-0400
TZOFFSETTO:-0500
TZNAME:Eastern Standard Time
END:STANDARD
END:VTIMEZONE
BEGIN:VEVENT
DTSTART;TZID=America/New_York:20260426T120000
DTEND;TZID=America/New_York:20260426T160000
X-MICROSOFT-CDO-ALLDAYEVENT:FALSE
SUMMARY:2026 Florida Keys Lionfish Derby & Arts Festival
DESCRIPTION:Splash into scientific exploration and creativity with REEF. This family-friendly event will feature numerous local artists and environmental organizations sharing hands-on activities. The goal is to engage our community and show how arts can connect the public to science and conservation. There will be interactive displays\, activities\, and booths to attract and engage audiences with science\, conservation\, and the environment. The Festival is free and open to all ages! The festival will include:Interactive activities and gamesLionfish weigh-in and scoringLionfish fillet and dissection and cooking demonstrationsFree lionfish tastingsScience DemosLive MusicFood trucks and drinksDerby Awards Ceremonyand more!If you have any questions\, please email lionfish@REEF.org or call our office at 305-852-0030.
X-ALT-DESC;FMTTYPE=text/html:<!DOCTYPE html><html><head><title></title></head><body aria-disabled="false"><p style='box-sizing: inherit\; margin: 0px 0px 1em\; padding: 0px\; border: 0px\; font-style: normal\; font-variant-ligatures: normal\; font-variant-caps: normal\; font-variant-numeric: inherit\; font-variant-east-asian: inherit\; font-variant-alternates: inherit\; font-variant-position: inherit\; font-variant-emoji: inherit\; font-weight: 400\; font-stretch: inherit\; font-size: 16px\; line-height: inherit\; font-family: droidsans_regular\, "Droid Sans"\, Tahoma\, Verdana\, sans-serif\; font-optical-sizing: inherit\; font-size-adjust: inherit\; font-kerning: inherit\; font-feature-settings: inherit\; font-variation-settings: inherit\; font-language-override: inherit\; vertical-align: baseline\; color: rgb(0\, 0\, 0)\; letter-spacing: normal\; orphans: 2\; text-align: start\; text-indent: 0px\; text-transform: none\; widows: 2\; word-spacing: 0px\; -webkit-text-stroke-width: 0px\; white-space: normal\; text-decoration-thickness: initial\; text-decoration-style: initial\; text-decoration-color: initial\;'>Splash into scientific exploration and creativity with REEF. This family-friendly event will feature numerous local artists and environmental organizations sharing hands-on activities. The goal is to engage our community and show how arts can connect the public to science and conservation. There will be interactive displays\, activities\, and booths to attract and engage audiences with science\, conservation\, and the environment. The Festival is free and open to all ages!&nbsp\;</p><p style='box-sizing: inherit\; margin: 0px 0px 1em\; padding: 0px\; border: 0px\; font-style: normal\; font-variant-ligatures: normal\; font-variant-caps: normal\; font-variant-numeric: inherit\; font-variant-east-asian: inherit\; font-variant-alternates: inherit\; font-variant-position: inherit\; font-variant-emoji: inherit\; font-weight: 400\; font-stretch: inherit\; font-size: 16px\; line-height: inherit\; font-family: droidsans_regular\, "Droid Sans"\, Tahoma\, Verdana\, sans-serif\; font-optical-sizing: inherit\; font-size-adjust: inherit\; font-kerning: inherit\; font-feature-settings: inherit\; font-variation-settings: inherit\; font-language-override: inherit\; vertical-align: baseline\; color: rgb(0\, 0\, 0)\; letter-spacing: normal\; orphans: 2\; text-align: start\; text-indent: 0px\; text-transform: none\; widows: 2\; word-spacing: 0px\; -webkit-text-stroke-width: 0px\; white-space: normal\; text-decoration-thickness: initial\; text-decoration-style: initial\; text-decoration-color: initial\;'>The festival will include:</p><ul fr-original-style='box-sizing: inherit\; margin: 0px 0px 1em\; padding: 0px 0px 0px 1.28em\; border: 0px\; font-style: normal\; font-variant-ligatures: normal\; font-variant-caps: normal\; font-variant-numeric: inherit\; font-variant-east-asian: inherit\; font-variant-alternates: inherit\; font-variant-position: inherit\; font-variant-emoji: inherit\; font-weight: 400\; font-stretch: inherit\; font-size: 16px\; line-height: inherit\; font-family: droidsans_regular\, "Droid Sans"\, Tahoma\, Verdana\, sans-serif\; font-optical-sizing: inherit\; font-size-adjust: inherit\; font-kerning: inherit\; font-feature-settings: inherit\; font-variation-settings: inherit\; font-language-override: inherit\; vertical-align: baseline\; list-style: outside none disc\; color: rgb(0\, 0\, 0)\; letter-spacing: normal\; orphans: 2\; text-align: start\; text-indent: 0px\; text-transform: none\; widows: 2\; word-spacing: 0px\; -webkit-text-stroke-width: 0px\; white-space: normal\; text-decoration-thickness: initial\; text-decoration-style: initial\; text-decoration-color: initial\;' style='box-sizing: inherit\; margin: 0px 0px 1em\; padding: 0px 0px 0px 1.28em\; border: 0px\; font-style: normal\; font-variant-ligatures: normal\; font-variant-caps: normal\; font-variant-numeric: inherit\; font-variant-east-asian: inherit\; font-variant-alternates: inherit\; font-variant-position: inherit\; font-variant-emoji: inherit\; font-weight: 400\; font-stretch: inherit\; font-size: 16px\; line-height: inherit\; font-family: droidsans_regular\, "Droid Sans"\, Tahoma\, Verdana\, sans-serif\; font-optical-sizing: inherit\; font-size-adjust: inherit\; font-kerning: inherit\; font-feature-settings: inherit\; font-variation-settings: inherit\; font-language-override: inherit\; vertical-align: baseline\; list-style: outside none disc\; color: rgb(0\, 0\, 0)\; letter-spacing: normal\; orphans: 2\; text-align: start\; text-indent: 0px\; text-transform: none\; widows: 2\; word-spacing: 0px\; -webkit-text-stroke-width: 0px\; white-space: normal\; text-decoration-thickness: initial\; text-decoration-style: initial\; text-decoration-color: initial\;'><li style="box-sizing: inherit\; margin: 0px\; padding: 0px\; border: 0px\; font: inherit\; vertical-align: baseline\;">Interactive&nbsp\;activities and games</li><li style="box-sizing: inherit\; margin: 0px\; padding: 0px\; border: 0px\; font: inherit\; vertical-align: baseline\;">Lionfish weigh-in and scoring</li><li style="box-sizing: inherit\; margin: 0px\; padding: 0px\; border: 0px\; font: inherit\; vertical-align: baseline\;">Lionfish fillet and dissection and cooking demonstrations</li><li style="box-sizing: inherit\; margin: 0px\; padding: 0px\; border: 0px\; font: inherit\; vertical-align: baseline\;">Free lionfish tastings</li><li style="box-sizing: inherit\; margin: 0px\; padding: 0px\; border: 0px\; font: inherit\; vertical-align: baseline\;">Science&nbsp\;Demos</li><li style="box-sizing: inherit\; margin: 0px\; padding: 0px\; border: 0px\; font: inherit\; vertical-align: baseline\;">Live Music</li><li style="box-sizing: inherit\; margin: 0px\; padding: 0px\; border: 0px\; font: inherit\; vertical-align: baseline\;">Food trucks and drinks</li><li style="box-sizing: inherit\; margin: 0px\; padding: 0px\; border: 0px\; font: inherit\; vertical-align: baseline\;">Derby Awards Ceremony</li><li style="box-sizing: inherit\; margin: 0px\; padding: 0px\; border: 0px\; font: inherit\; vertical-align: baseline\;">and more!</li></ul><p style='box-sizing: inherit\; margin: 0px 0px 1em\; padding: 0px\; border: 0px\; font-style: normal\; font-variant-ligatures: normal\; font-variant-caps: normal\; font-variant-numeric: inherit\; font-variant-east-asian: inherit\; font-variant-alternates: inherit\; font-variant-position: inherit\; font-variant-emoji: inherit\; font-weight: 400\; font-stretch: inherit\; font-size: 16px\; line-height: inherit\; font-family: droidsans_regular\, "Droid Sans"\, Tahoma\, Verdana\, sans-serif\; font-optical-sizing: inherit\; font-size-adjust: inherit\; font-kerning: inherit\; font-feature-settings: inherit\; font-variation-settings: inherit\; font-language-override: inherit\; vertical-align: baseline\; color: rgb(0\, 0\, 0)\; letter-spacing: normal\; orphans: 2\; text-align: start\; text-indent: 0px\; text-transform: none\; widows: 2\; word-spacing: 0px\; -webkit-text-stroke-width: 0px\; white-space: normal\; text-decoration-thickness: initial\; text-decoration-style: initial\; text-decoration-color: initial\;'>If you have any questions\, please email&nbsp\;<a fr-original-style="box-sizing: inherit\; margin: 0px\; padding: 0px\; border: 0px\; font: inherit\; vertical-align: baseline\; transition: text-decoration 0.15s\, -webkit-text-decoration 0.15s\; color: rgb(27\, 81\, 164)\;" href="mailto:lionfish@REEF.org" style="box-sizing: inherit\; margin: 0px\; padding: 0px\; border: 0px\; font: inherit\; vertical-align: baseline\; transition: text-decoration 0.15s\, -webkit-text-decoration 0.15s\; color: rgb(27\, 81\, 164)\; user-select: auto\;">lionfish@REEF.org</a> or call our office at 305-852-0030.</p></body></html>
LOCATION:
UID:e.4472.1434179
SEQUENCE:3
DTSTAMP:20260425T160707Z
URL:http://keylargochamberofcommerce.growthzoneapp.com/eventcalendar/Details/2026-florida-keys-lionfish-derby-arts-festival-1697729?sourceTypeId=Hub
END:VEVENT
END:VCALENDAR
