BEGIN:VCALENDAR
VERSION:2.0
PRODID:-//ChamberMaster//Event Calendar 2.0//EN
METHOD:PUBLISH
X-PUBLISHED-TTL:P1H
REFRESH-INTERVAL:P1H
CALSCALE:GREGORIAN
BEGIN:VTIMEZONE
TZID:America/New_York
BEGIN:DAYLIGHT
RRULE:FREQ=YEARLY;BYMONTH=3;BYDAY=2SU
DTSTART:20070101T000000
TZOFFSETFROM:-0500
TZOFFSETTO:-0400
TZNAME:Eastern Daylight Time
END:DAYLIGHT
BEGIN:STANDARD
RRULE:FREQ=YEARLY;BYMONTH=11;BYDAY=1SU
DTSTART:20070101T000000
TZOFFSETFROM:-0400
TZOFFSETTO:-0500
TZNAME:Eastern Standard Time
END:STANDARD
END:VTIMEZONE
BEGIN:VEVENT
DTSTART;TZID=America/New_York:20260423T173000
DTEND;TZID=America/New_York:20260423T193000
X-MICROSOFT-CDO-ALLDAYEVENT:FALSE
SUMMARY:April Members in Motion at Bar Victor! Conversations\, craft cocktails\, shared bites and amazing music!
DESCRIPTION:Join us for an amazing night of conversations\, craft cocktails and shared bites. Let's celebrate the amazing ambience\, the music\, the food and the craft cocktails that you'll find at Bar Victor. Let's give them a warm Key Largo welcome!
X-ALT-DESC;FMTTYPE=text/html:<!DOCTYPE html><html><head><title></title></head><body aria-disabled="false"><p>Join us for an amazing night of conversations\, craft cocktails and shared bites. Let&#39\;s celebrate the amazing ambience\, the music\, the food and the craft cocktails that you&#39\;ll find at Bar Victor. Let&#39\;s give them a warm Key Largo welcome!</p></body></html>
LOCATION:97630 Overseas Hwy Key Largo Key Largo FL 33037
UID:e.4472.1433593
SEQUENCE:3
DTSTAMP:20260425T160707Z
URL:http://keylargochamberofcommerce.growthzoneapp.com/eventcalendar/Details/april-members-in-motion-at-bar-victor-conversations-craft-cocktails-shared-bites-and-amazing-music-1696963?sourceTypeId=Hub
END:VEVENT
END:VCALENDAR
