BEGIN:VCALENDAR
VERSION:2.0
PRODID:-//ChamberMaster//Event Calendar 2.0//EN
METHOD:PUBLISH
X-PUBLISHED-TTL:P1H
REFRESH-INTERVAL:P1H
CALSCALE:GREGORIAN
BEGIN:VTIMEZONE
TZID:America/New_York
BEGIN:DAYLIGHT
RRULE:FREQ=YEARLY;BYMONTH=3;BYDAY=2SU
DTSTART:20070101T000000
TZOFFSETFROM:-0500
TZOFFSETTO:-0400
TZNAME:Eastern Daylight Time
END:DAYLIGHT
BEGIN:STANDARD
RRULE:FREQ=YEARLY;BYMONTH=11;BYDAY=1SU
DTSTART:20070101T000000
TZOFFSETFROM:-0400
TZOFFSETTO:-0500
TZNAME:Eastern Standard Time
END:STANDARD
END:VTIMEZONE
BEGIN:VEVENT
DTSTART;TZID=America/New_York:20260404T180000
DTEND;TZID=America/New_York:20260404T220000
X-MICROSOFT-CDO-ALLDAYEVENT:FALSE
SUMMARY:Bets for Pets
DESCRIPTION:Join us for a delightful time in 2026! Come and mark your calendars for the 4th Annual BETS FOR PETS on April 4th\, 2026\, at the backyard Casino FUNdraiser hosted by Marrvelous Pet Rescues House. \n\nThe event will take place at 68 Silver Springs Drive\, Key Largo\, from 6 pm to 10 pm. \n\nDisco Theme\n\nMPR is a non-profit 501(c)(3) organization that assists homeless animals by providing appropriate medical care\, spay & neuter\, microchipping\, foster homes\, and ultimately fur-ever homes.\n\nYour continued support is vital in enabling us to provide care\, implement programs\, and save more lives. MarrVelous Pet Rescues relies solely on donations\, and we are hopeful for your support. We are actively seeking sponsors\, prize items\, and\, most importantly\, your attendance on April 4th\, 2026.\n\nWant to make meaningful impact? Consider becoming a SPONSOR\, DONOR\, and of course – joining us the event! \nDetails about sponsorship opportunities are provided on the attached pages. \n\nAdmission for this enjoyable evening is $125 per person and includes Yappetizers\, an open bar\, casino-style gaming\, and the chance to win prizes. Additionally\, all guests will receive complimentary Free Casino Gaming Chips worth 2\,500. Adoptable animals will be present\, adding to the excitement! Your financial support will contribute to covering the costs of hosting the casino night\, allowing MPR to raise funds for our primary goal – saving animals!\n\nIf you have any questions about sponsorship levels\, prize donations\, or the event itself\, please feel free to reach out. We eagerly anticipate your participation and sincerely thank you for your support!
X-ALT-DESC;FMTTYPE=text/html:Join us for a delightful time in 2026! Come and mark your calendars for the 4th Annual BETS FOR PETS on April 4th\, 2026\, at the backyard Casino FUNdraiser hosted by Marrvelous Pet Rescues House. \n\nThe event will take place at 68 Silver Springs Drive\, Key Largo\, from 6 pm to 10 pm. \n\nDisco Theme\n\nMPR is a non-profit 501(c)(3) organization that assists homeless animals by providing appropriate medical care\, spay & neuter\, microchipping\, foster homes\, and ultimately fur-ever homes.\n\nYour continued support is vital in enabling us to provide care\, implement programs\, and save more lives. MarrVelous Pet Rescues relies solely on donations\, and we are hopeful for your support. We are actively seeking sponsors\, prize items\, and\, most importantly\, your attendance on April 4th\, 2026.\n\nWant to make meaningful impact? Consider becoming a SPONSOR\, DONOR\, and of course – joining us the event! \nDetails about sponsorship opportunities are provided on the attached pages. \n\nAdmission for this enjoyable evening is $125 per person and includes Yappetizers\, an open bar\, casino-style gaming\, and the chance to win prizes. Additionally\, all guests will receive complimentary Free Casino Gaming Chips worth 2\,500. Adoptable animals will be present\, adding to the excitement! Your financial support will contribute to covering the costs of hosting the casino night\, allowing MPR to raise funds for our primary goal – saving animals!\n\nIf you have any questions about sponsorship levels\, prize donations\, or the event itself\, please feel free to reach out. We eagerly anticipate your participation and sincerely thank you for your support!
LOCATION:68 Silver Springs Drive Key Largo FL 33037
UID:e.4472.1427859
SEQUENCE:3
DTSTAMP:20260425T160540Z
URL:http://keylargochamberofcommerce.growthzoneapp.com/eventcalendar/Details/bets-for-pets-1689164?sourceTypeId=Hub
END:VEVENT
END:VCALENDAR
