BEGIN:VCALENDAR
VERSION:2.0
PRODID:-//ChamberMaster//Event Calendar 2.0//EN
METHOD:PUBLISH
X-PUBLISHED-TTL:P1H
REFRESH-INTERVAL:P1H
CALSCALE:GREGORIAN
BEGIN:VTIMEZONE
TZID:America/New_York
BEGIN:DAYLIGHT
RRULE:FREQ=YEARLY;BYMONTH=3;BYDAY=2SU
DTSTART:20070101T000000
TZOFFSETFROM:-0500
TZOFFSETTO:-0400
TZNAME:Eastern Daylight Time
END:DAYLIGHT
BEGIN:STANDARD
RRULE:FREQ=YEARLY;BYMONTH=11;BYDAY=1SU
DTSTART:20070101T000000
TZOFFSETFROM:-0400
TZOFFSETTO:-0500
TZNAME:Eastern Standard Time
END:STANDARD
END:VTIMEZONE
BEGIN:VEVENT
DTSTART;TZID=America/New_York:20260417T173000
DTEND;TZID=America/New_York:20260417T193000
X-MICROSOFT-CDO-ALLDAYEVENT:FALSE
SUMMARY:Cajun Night at Doc's Diner
DESCRIPTION:Rotary Club of Key Largo presents a Mardi Gras themed fundraiser.\n\nTickets $39 for Adults & $20 for Kids
X-ALT-DESC;FMTTYPE=text/html:Rotary Club of Key Largo presents a Mardi Gras themed fundraiser.\n\nTickets $39 for Adults & $20 for Kids
LOCATION:99696 Overseas Highway Key Largo FL 33037
UID:e.4472.1427982
SEQUENCE:3
DTSTAMP:20260425T160608Z
URL:http://keylargochamberofcommerce.growthzoneapp.com/eventcalendar/Details/cajun-night-at-doc-s-diner-1689388?sourceTypeId=Hub
END:VEVENT
END:VCALENDAR
