BEGIN:VCALENDAR
VERSION:2.0
PRODID:-//ChamberMaster//Event Calendar 2.0//EN
METHOD:PUBLISH
X-PUBLISHED-TTL:P1H
REFRESH-INTERVAL:P1H
CALSCALE:GREGORIAN
BEGIN:VTIMEZONE
TZID:America/New_York
BEGIN:DAYLIGHT
RRULE:FREQ=YEARLY;BYMONTH=3;BYDAY=2SU
DTSTART:20070101T000000
TZOFFSETFROM:-0500
TZOFFSETTO:-0400
TZNAME:Eastern Daylight Time
END:DAYLIGHT
BEGIN:STANDARD
RRULE:FREQ=YEARLY;BYMONTH=11;BYDAY=1SU
DTSTART:20070101T000000
TZOFFSETFROM:-0400
TZOFFSETTO:-0500
TZNAME:Eastern Standard Time
END:STANDARD
END:VTIMEZONE
BEGIN:VEVENT
DTSTART;TZID=America/New_York:20260126T000000
DTEND;TZID=America/New_York:20260415T000000
X-MICROSOFT-CDO-ALLDAYEVENT:FALSE
SUMMARY:Dive Into Art: Stories From the Sea
DESCRIPTION:Islamorada: This special limited-time featured exhibit at the History of Diving Museum showcases creative works including paintings\, sculptures\, poetry\, and even live performances. These pieces are created by students across the Florida Keys as well as by members of the Art Guild of the Purple Isles. Come see this incredible display\, inspired by fantastic nautical tales from around the world. Many of these beautiful works will also be on sale and available to purchase and take home with you! Info: (305) 664-9737\; www.divingmuseum.org
X-ALT-DESC;FMTTYPE=text/html:Islamorada: This special limited-time featured exhibit at the History of Diving Museum showcases creative works including paintings\, sculptures\, poetry\, and even live performances. These pieces are created by students across the Florida Keys as well as by members of the Art Guild of the Purple Isles. Come see this incredible display\, inspired by fantastic nautical tales from around the world. Many of these beautiful works will also be on sale and available to purchase and take home with you! Info: (305) 664-9737\; www.divingmuseum.org
LOCATION:82990 Overseas Highway Islamorada FL 33036
UID:e.4472.1420373
SEQUENCE:3
DTSTAMP:20260425T192949Z
URL:http://keylargochamberofcommerce.growthzoneapp.com/eventcalendar/Details/dive-into-art-stories-from-the-sea-1679149?sourceTypeId=Hub
END:VEVENT
END:VCALENDAR
