BEGIN:VCALENDAR
VERSION:2.0
PRODID:-//ChamberMaster//Event Calendar 2.0//EN
METHOD:PUBLISH
X-PUBLISHED-TTL:P1H
REFRESH-INTERVAL:P1H
CALSCALE:GREGORIAN
BEGIN:VTIMEZONE
TZID:America/New_York
BEGIN:DAYLIGHT
RRULE:FREQ=YEARLY;BYMONTH=3;BYDAY=2SU
DTSTART:20070101T000000
TZOFFSETFROM:-0500
TZOFFSETTO:-0400
TZNAME:Eastern Daylight Time
END:DAYLIGHT
BEGIN:STANDARD
RRULE:FREQ=YEARLY;BYMONTH=11;BYDAY=1SU
DTSTART:20070101T000000
TZOFFSETFROM:-0400
TZOFFSETTO:-0500
TZNAME:Eastern Standard Time
END:STANDARD
END:VTIMEZONE
BEGIN:VEVENT
DTSTART;TZID=America/New_York:20260502T110000
DTEND;TZID=America/New_York:20260502T180000
X-MICROSOFT-CDO-ALLDAYEVENT:FALSE
SUMMARY:Keys Together Spring Festival
DESCRIPTION:Saturday May 2\, 2026\n11:00 AM - 6:00 PM\nMarathon Oceanfront Park\nLive Music\, Local Vendors\, Artisan Crafts\, Food Trucks\, Family Activities\, Kid Zone\n\nwww.leadershipmonroecounty.org\n305-394-3804
X-ALT-DESC;FMTTYPE=text/html:Saturday May 2\, 2026\n11:00 AM - 6:00 PM\nMarathon Oceanfront Park\nLive Music\, Local Vendors\, Artisan Crafts\, Food Trucks\, Family Activities\, Kid Zone\n\nwww.leadershipmonroecounty.org\n305-394-3804
LOCATION:
UID:e.4472.1424474
SEQUENCE:3
DTSTAMP:20260425T192857Z
URL:http://keylargochamberofcommerce.growthzoneapp.com/eventcalendar/Details/keys-together-spring-festival-1684202?sourceTypeId=Hub
END:VEVENT
END:VCALENDAR
