BEGIN:VCALENDAR
VERSION:2.0
PRODID:-//ChamberMaster//Event Calendar 2.0//EN
METHOD:PUBLISH
X-PUBLISHED-TTL:P1H
REFRESH-INTERVAL:P1H
CALSCALE:GREGORIAN
BEGIN:VTIMEZONE
TZID:America/New_York
BEGIN:DAYLIGHT
RRULE:FREQ=YEARLY;BYMONTH=3;BYDAY=2SU
DTSTART:20070101T000000
TZOFFSETFROM:-0500
TZOFFSETTO:-0400
TZNAME:Eastern Daylight Time
END:DAYLIGHT
BEGIN:STANDARD
RRULE:FREQ=YEARLY;BYMONTH=11;BYDAY=1SU
DTSTART:20070101T000000
TZOFFSETFROM:-0400
TZOFFSETTO:-0500
TZNAME:Eastern Standard Time
END:STANDARD
END:VTIMEZONE
BEGIN:VEVENT
DTSTART;TZID=America/New_York:20260507T100000
DTEND;TZID=America/New_York:20260507T110000
X-MICROSOFT-CDO-ALLDAYEVENT:FALSE
SUMMARY:National Day of Prayer
DESCRIPTION:The 2026 National Day of Prayer Theme-\nGLORIFY GOD AMONG THE NATIONS - SEEKING HIM IN ALL GENERATIONS\nTell of His glory among the nations\, His wonderful deeds among all the peoples. 1 Chronicles 16:24 NASB
X-ALT-DESC;FMTTYPE=text/html:The 2026 National Day of Prayer Theme-\nGLORIFY GOD AMONG THE NATIONS - SEEKING HIM IN ALL GENERATIONS\nTell of His glory among the nations\, His wonderful deeds among all the peoples. 1 Chronicles 16:24 NASB
LOCATION:3 East Dr. Key Largo FL 33037
UID:e.4472.1426813
SEQUENCE:3
DTSTAMP:20260425T160707Z
URL:http://keylargochamberofcommerce.growthzoneapp.com/eventcalendar/Details/national-day-of-prayer-1687472?sourceTypeId=Hub
END:VEVENT
END:VCALENDAR
