BEGIN:VCALENDAR
VERSION:2.0
PRODID:-//ChamberMaster//Event Calendar 2.0//EN
METHOD:PUBLISH
X-PUBLISHED-TTL:P1H
REFRESH-INTERVAL:P1H
CALSCALE:GREGORIAN
BEGIN:VTIMEZONE
TZID:America/New_York
BEGIN:DAYLIGHT
RRULE:FREQ=YEARLY;BYMONTH=3;BYDAY=2SU
DTSTART:20070101T000000
TZOFFSETFROM:-0500
TZOFFSETTO:-0400
TZNAME:Eastern Daylight Time
END:DAYLIGHT
BEGIN:STANDARD
RRULE:FREQ=YEARLY;BYMONTH=11;BYDAY=1SU
DTSTART:20070101T000000
TZOFFSETFROM:-0400
TZOFFSETTO:-0500
TZNAME:Eastern Standard Time
END:STANDARD
END:VTIMEZONE
BEGIN:VEVENT
DTSTART;TZID=America/New_York:20260407T180000
DTEND;TZID=America/New_York:20260407T200000
X-MICROSOFT-CDO-ALLDAYEVENT:FALSE
SUMMARY:Ocean After Hours- BPW Family Networking Night
DESCRIPTION:Join us and the Upper Keys Business & Professional Women for a fun evening for the whole family! Attendees will gather in the upstairs gallery for facilitated networking activities led by BPW\, REEF staff lead interactive art and STEM-focused activities for the kids in the Science Discovery Classroom.
X-ALT-DESC;FMTTYPE=text/html:<!DOCTYPE html><html><head><title></title></head><body aria-disabled="false"><p>Join us and the Upper Keys Business &amp\; Professional Women for a fun evening for the whole family! Attendees will gather in the upstairs gallery for facilitated networking activities led by BPW\, REEF staff lead interactive art and STEM-focused activities for the kids in the Science Discovery Classroom.</p></body></html>
LOCATION:
UID:e.4472.1434119
SEQUENCE:3
DTSTAMP:20260425T160632Z
URL:http://keylargochamberofcommerce.growthzoneapp.com/eventcalendar/Details/ocean-after-hours-bpw-family-networking-night-1697676?sourceTypeId=Hub
END:VEVENT
END:VCALENDAR
