BEGIN:VCALENDAR
VERSION:2.0
PRODID:-//ChamberMaster//Event Calendar 2.0//EN
METHOD:PUBLISH
X-PUBLISHED-TTL:P1H
REFRESH-INTERVAL:P1H
CALSCALE:GREGORIAN
BEGIN:VTIMEZONE
TZID:America/New_York
BEGIN:DAYLIGHT
RRULE:FREQ=YEARLY;BYMONTH=3;BYDAY=2SU
DTSTART:20070101T000000
TZOFFSETFROM:-0500
TZOFFSETTO:-0400
TZNAME:Eastern Daylight Time
END:DAYLIGHT
BEGIN:STANDARD
RRULE:FREQ=YEARLY;BYMONTH=11;BYDAY=1SU
DTSTART:20070101T000000
TZOFFSETFROM:-0400
TZOFFSETTO:-0500
TZNAME:Eastern Standard Time
END:STANDARD
END:VTIMEZONE
BEGIN:VEVENT
DTSTART;TZID=America/New_York:20260421T180000
DTEND;TZID=America/New_York:20260421T200000
X-MICROSOFT-CDO-ALLDAYEVENT:FALSE
SUMMARY:Ocean After Hours- Lionfish Jewelry Workshop
DESCRIPTION:A fish as beautiful as it is destructive\; invasive lionfish have had dramatic impacts on marine ecosystems due to their high reproductive rate and voracious appetites. These visually stunning fish have characteristic red and white stripes and long\, fanlike spines and fins. REEF Lionfish Jewlery Workshops encourage a consumer market that promotes lionfish removal. During the workshop\, REEF will explain the background of the invasion\, biology and ecology of lionfish\, impacts\, current research findings\, collecting tools and techniques\, market development and ways for getting the community involved. Workshop instructors will also provide a step-by-step tutorial on how to make lionfish jewelry\, and you can begin crafting your own customized jewelry from pre-treated lionfish fins. All of the lionfish used in our workshops are locally collected in the Florida Keys or South Florida. Following capture\, the lionfish fins and spines are carefully removed and treated to ensure safe handling.
X-ALT-DESC;FMTTYPE=text/html:<!DOCTYPE html><html><head><title></title></head><body aria-disabled="false"><p>A fish as beautiful as it is destructive\; invasive lionfish have had dramatic impacts on marine ecosystems due to their high reproductive rate and voracious appetites. These visually stunning fish have characteristic red and white stripes and long\, fanlike spines and fins.&nbsp\;</p><p>REEF Lionfish Jewlery Workshops encourage a consumer market that promotes lionfish removal. During the workshop\, REEF will explain the background of the invasion\, biology and ecology of lionfish\, impacts\, current research findings\, collecting tools and techniques\, market development and ways for getting the community involved. Workshop instructors will also provide a step-by-step tutorial on how to make lionfish jewelry\, and you can begin crafting your own customized jewelry from pre-treated lionfish fins.&nbsp\;</p><p>All of the lionfish used in our workshops are locally collected in the Florida Keys or South Florida. Following capture\, the lionfish fins and spines are carefully removed and treated to ensure safe handling.</p></body></html>
LOCATION:
UID:e.4472.1434170
SEQUENCE:3
DTSTAMP:20260425T192950Z
URL:http://keylargochamberofcommerce.growthzoneapp.com/eventcalendar/Details/ocean-after-hours-lionfish-jewelry-workshop-1697720?sourceTypeId=Hub
END:VEVENT
END:VCALENDAR
