BEGIN:VCALENDAR
VERSION:2.0
PRODID:-//ChamberMaster//Event Calendar 2.0//EN
METHOD:PUBLISH
X-PUBLISHED-TTL:P1H
REFRESH-INTERVAL:P1H
CALSCALE:GREGORIAN
BEGIN:VTIMEZONE
TZID:America/New_York
BEGIN:DAYLIGHT
RRULE:FREQ=YEARLY;BYMONTH=3;BYDAY=2SU
DTSTART:20070101T000000
TZOFFSETFROM:-0500
TZOFFSETTO:-0400
TZNAME:Eastern Daylight Time
END:DAYLIGHT
BEGIN:STANDARD
RRULE:FREQ=YEARLY;BYMONTH=11;BYDAY=1SU
DTSTART:20070101T000000
TZOFFSETFROM:-0400
TZOFFSETTO:-0500
TZNAME:Eastern Standard Time
END:STANDARD
END:VTIMEZONE
BEGIN:VEVENT
DTSTART;TZID=America/New_York:20260428T180000
DTEND;TZID=America/New_York:20260428T200000
X-MICROSOFT-CDO-ALLDAYEVENT:FALSE
SUMMARY:Ocean After Hours- Waterlust Trivia #2
DESCRIPTION:We are thrilled to be joining the Waterlust Trivia Challenge this semester! Put your marine science knowledge to the test at the REEF Ocean Exploration Center. The subject matter will span all aspects of marine science- such as marine biology\, physical oceanography\, marine chemistry\, marine geology\, atmospheric science etc. The questions that will challenge players with a graduate-student level of education\, so creating diverse teams with members with a wide variety of knowledge is encouraged. Teams may have between 1-6 participants. Each member of the winning team from each gathering will get a $50 digital gift card to Waterlust.com. This is part 2 of a 3-part series. You do not have to have attended in part 1 to participate. Join us on Tuesday\, May 26 for more Waterlust Trivia! Learn more about the trivia series here.
X-ALT-DESC;FMTTYPE=text/html:<!DOCTYPE html><html><head><title></title></head><body aria-disabled="false"><p>We are thrilled to be joining the Waterlust Trivia Challenge this semester! Put your marine science knowledge to the test at the REEF Ocean Exploration Center. The subject matter will span all aspects of marine science- such as marine biology\, physical oceanography\, marine chemistry\, marine geology\, atmospheric science etc. The questions that will challenge players with a graduate-student level of education\, so creating diverse teams with members with a wide variety of knowledge is encouraged. Teams may have between 1-6 participants.&nbsp\;</p><p>Each member of the winning team from each gathering will get a $50 digital gift card to <a fr-original-style="" href="https://waterlust.com/" style="user-select: auto\;">Waterlust.com</a>.&nbsp\;</p><p>This is part 2 of a 3-part series. You do not have to have attended in part 1 to participate. Join us on Tuesday\, May 26 for more Waterlust Trivia! Learn more about the trivia series <a fr-original-style="" href="https://waterlust.com/pages/trivia?srsltid=AfmBOopb8QWsXXyAjv9XRsRK5kvg0EtW1lBshIKD2TTvgr5PwC-zSsvG" style="user-select: auto\;">here</a>.&nbsp\;</p></body></html>
LOCATION:
UID:e.4472.1434186
SEQUENCE:3
DTSTAMP:20260425T160633Z
URL:http://keylargochamberofcommerce.growthzoneapp.com/eventcalendar/Details/ocean-after-hours-waterlust-trivia-2-1697736?sourceTypeId=Hub
END:VEVENT
END:VCALENDAR
