BEGIN:VCALENDAR
VERSION:2.0
PRODID:-//ChamberMaster//Event Calendar 2.0//EN
METHOD:PUBLISH
X-PUBLISHED-TTL:P1H
REFRESH-INTERVAL:P1H
CALSCALE:GREGORIAN
BEGIN:VTIMEZONE
TZID:America/New_York
BEGIN:DAYLIGHT
RRULE:FREQ=YEARLY;BYMONTH=3;BYDAY=2SU
DTSTART:20070101T000000
TZOFFSETFROM:-0500
TZOFFSETTO:-0400
TZNAME:Eastern Daylight Time
END:DAYLIGHT
BEGIN:STANDARD
RRULE:FREQ=YEARLY;BYMONTH=11;BYDAY=1SU
DTSTART:20070101T000000
TZOFFSETFROM:-0400
TZOFFSETTO:-0500
TZNAME:Eastern Standard Time
END:STANDARD
END:VTIMEZONE
BEGIN:VEVENT
DTSTART;TZID=America/New_York:20260414T180000
DTEND;TZID=America/New_York:20260414T200000
X-MICROSOFT-CDO-ALLDAYEVENT:FALSE
SUMMARY:REEF Fish & Friends: Everglades Restoration: Building Resilience from the Headwaters to the Florida Keys
DESCRIPTION:Keely Weyker is The Everglades Foundation's Director of Engagement & Outreach and has a passion for environmental education and policy. She graduated from Georgia State University (GSU) in 2016 with a B.S. in public policy and a concentration in nonprofit leadership. While attending GSU\, Keely interned for the Georgia Aquarium and worked for Fernbank Museum of Natural History\, where she taught animal education. She also spent her summers working for a sea turtle hatchling rescue organization in Fort Lauderdale\, Florida\, called Sea Turtle Oversight Protection. Keely's appreciation for the environment has lead her to pursue a career in protecting it. Keely enjoys spending her free time outdoors\, hiking\, boating\, and capturing nature through photography.REEF Fish & Friends is a free\, monthly seminar series that features engaging ocean-themed presentations from guest speakers. Snorkelers\, divers\, and marine life enthusiasts are invited to join informal discussions and mingle with members of our friendly\, ocean-minded community. Complimentary light refreshments are provided. The evening kicks off with a social from 6:15-7pm\, followed by a presentation from 7-8pm. Seminars are also live-streamed on Facebook and YouTube.
X-ALT-DESC;FMTTYPE=text/html:<!DOCTYPE html><html><head><title></title></head><body aria-disabled="false"><p>Keely Weyker is The Everglades Foundation&rsquo\;s Director of Engagement &amp\; Outreach and has a passion for environmental education and policy. She graduated from Georgia State University (GSU) in 2016 with a B.S. in public policy and a concentration in nonprofit leadership. While attending GSU\, Keely interned for the Georgia Aquarium and worked for Fernbank Museum of Natural History\, where she taught animal education. She also spent her summers working for a sea turtle hatchling rescue organization in Fort Lauderdale\, Florida\, called Sea Turtle Oversight Protection. Keely&rsquo\;s appreciation for the environment has lead her to pursue a career in protecting it. Keely enjoys spending her free time outdoors\, hiking\, boating\, and capturing nature through photography.</p><p>REEF Fish &amp\; Friends is a free\, monthly seminar series that features engaging ocean-themed presentations from guest speakers. Snorkelers\, divers\, and marine life enthusiasts are invited to join informal discussions and mingle with members of our friendly\, ocean-minded community. Complimentary light refreshments are provided. The evening kicks off with a social from 6:15-7pm\, followed by a presentation from 7-8pm. Seminars are also live-streamed on Facebook and YouTube.</p></body></html>
LOCATION:
UID:e.4472.1434139
SEQUENCE:3
DTSTAMP:20260425T160737Z
URL:http://keylargochamberofcommerce.growthzoneapp.com/eventcalendar/Details/reef-fish-friends-everglades-restoration-building-resilience-from-the-headwaters-to-the-florida-keys-1697689?sourceTypeId=Hub
END:VEVENT
END:VCALENDAR
