BEGIN:VCALENDAR
VERSION:2.0
PRODID:-//ChamberMaster//Event Calendar 2.0//EN
METHOD:PUBLISH
X-PUBLISHED-TTL:P1H
REFRESH-INTERVAL:P1H
CALSCALE:GREGORIAN
BEGIN:VTIMEZONE
TZID:America/New_York
BEGIN:DAYLIGHT
RRULE:FREQ=YEARLY;BYMONTH=3;BYDAY=2SU
DTSTART:20070101T000000
TZOFFSETFROM:-0500
TZOFFSETTO:-0400
TZNAME:Eastern Daylight Time
END:DAYLIGHT
BEGIN:STANDARD
RRULE:FREQ=YEARLY;BYMONTH=11;BYDAY=1SU
DTSTART:20070101T000000
TZOFFSETFROM:-0400
TZOFFSETTO:-0500
TZNAME:Eastern Standard Time
END:STANDARD
END:VTIMEZONE
BEGIN:VEVENT
DTSTART;VALUE=DATE:20260607
DTEND;VALUE=DATE:20260608
TRANSP:TRANSPARENT
X-MICROSOFT-CDO-ALLDAYEVENT:TRUE
SUMMARY:REEF Fish Out of Water 5K
DESCRIPTION:Get ready for the 7th Annual REEF Fish Out of Water Virtual 5K! It's time to get out and get active in your local community while making your miles count. From June 7-13\, we're encouraging the REEF community and ocean enthusiasts everywhere to get moving in the name of conservation. You can choose to run\, walk\, hike\, bike\, paddle\, or even swim\, completing the 5K (3.1 miles) distance in one day or breaking it into smaller sections over the week. All participants will receive a limited-edition race shirt\, bib\, and custom fish team vinyl stickers. Proceeds from your Fish Out of Water 5K registration supports the REEF Oceans for All Fund\, which provides support for individuals who have had limited opportunities to learn about\, experience\, and explore the ocean through REEF's programs. By participating in the race\, you're making a difference in the lives of individuals and the health of the oceans.\n\nMake a difference with REEF   join us for the Fish Out of Water Virtual 5K!  Learn more about the race\, the 2026 fish teams\, and sign up now at https://www.REEF.org/5K.
X-ALT-DESC;FMTTYPE=text/html:<!DOCTYPE html><html><head><title></title></head><body aria-disabled="false"><p><span style='color: rgb(0\, 0\, 0)\; font-family: droidsans_regular\, "Droid Sans"\, Tahoma\, Verdana\, sans-serif\; font-size: 16px\; font-style: normal\; font-variant-ligatures: normal\; font-variant-caps: normal\; font-weight: 400\; letter-spacing: normal\; orphans: 2\; text-align: start\; text-indent: 0px\; text-transform: none\; widows: 2\; word-spacing: 0px\; -webkit-text-stroke-width: 0px\; white-space: normal\; text-decoration-thickness: initial\; text-decoration-style: initial\; text-decoration-color: initial\; display: inline !important\; float: none\;'>Get ready for the 7th Annual REEF Fish Out of Water Virtual 5K! It&#39\;s time to get out and get active in your local community while making your miles count. From June 7-13\, we&rsquo\;re encouraging the REEF community and ocean enthusiasts everywhere to get moving in the name of conservation.&nbsp\;</span><i style='box-sizing: inherit\; margin: 0px\; padding: 0px\; border: 0px\; font-style: italic\; font-variant-ligatures: normal\; font-variant-caps: normal\; font-variant-numeric: inherit\; font-variant-east-asian: inherit\; font-variant-alternates: inherit\; font-variant-position: inherit\; font-variant-emoji: inherit\; font-weight: 400\; font-stretch: inherit\; font-size: 16px\; line-height: inherit\; font-family: droidsans_regular\, "Droid Sans"\, Tahoma\, Verdana\, sans-serif\; font-optical-sizing: inherit\; font-size-adjust: inherit\; font-kerning: inherit\; font-feature-settings: inherit\; font-variation-settings: inherit\; font-language-override: inherit\; vertical-align: baseline\; color: rgb(0\, 0\, 0)\; letter-spacing: normal\; orphans: 2\; text-align: start\; text-indent: 0px\; text-transform: none\; widows: 2\; word-spacing: 0px\; -webkit-text-stroke-width: 0px\; white-space: normal\; text-decoration-thickness: initial\; text-decoration-style: initial\; text-decoration-color: initial\;'><em>You can choose to run\, walk\, hike\, bike\, paddle\, or even swim</em></i><span style='color: rgb(0\, 0\, 0)\; font-family: droidsans_regular\, "Droid Sans"\, Tahoma\, Verdana\, sans-serif\; font-size: 16px\; font-style: normal\; font-variant-ligatures: normal\; font-variant-caps: normal\; font-weight: 400\; letter-spacing: normal\; orphans: 2\; text-align: start\; text-indent: 0px\; text-transform: none\; widows: 2\; word-spacing: 0px\; -webkit-text-stroke-width: 0px\; white-space: normal\; text-decoration-thickness: initial\; text-decoration-style: initial\; text-decoration-color: initial\; display: inline !important\; float: none\;'><em>\,</em> completing the 5K (3.1 miles) distance in one day or breaking it into smaller sections over the week.&nbsp\;</span><span style='color: rgb(0\, 0\, 0)\; font-family: droidsans_regular\, "Droid Sans"\, Tahoma\, Verdana\, sans-serif\; font-size: 16px\; font-style: normal\; font-variant-ligatures: normal\; font-variant-caps: normal\; font-weight: 400\; letter-spacing: normal\; orphans: 2\; text-align: start\; text-indent: 0px\; text-transform: none\; widows: 2\; word-spacing: 0px\; -webkit-text-stroke-width: 0px\; white-space: normal\; text-decoration-thickness: initial\; text-decoration-style: initial\; text-decoration-color: initial\; display: inline !important\; float: none\;'><span style='color: rgb(0\, 0\, 0)\; font-family: droidsans_regular\, "Droid Sans"\, Tahoma\, Verdana\, sans-serif\; font-size: 16px\; font-style: normal\; font-variant-ligatures: normal\; font-variant-caps: normal\; font-weight: 400\; letter-spacing: normal\; orphans: 2\; text-align: start\; text-indent: 0px\; text-transform: none\; widows: 2\; word-spacing: 0px\; -webkit-text-stroke-width: 0px\; white-space: normal\; text-decoration-thickness: initial\; text-decoration-style: initial\; text-decoration-color: initial\; display: inline !important\; float: none\;'>All participants will receive a limited-edition race shirt\, bib\, and custom fish team vinyl stickers.</span>&nbsp\;</span></p><p><strong fr-original-style="box-sizing: inherit\; margin: 0px\; padding: 0px\; border: 0px\; font-style: normal\; font-variant-ligatures: normal\; font-variant-caps: normal\; font-variant-numeric: inherit\; font-variant-east-asian: inherit\; font-variant-alternates: inherit\; font-variant-position: inherit\; font-variant-emoji: inherit\; font-weight: inherit\; font-stretch: inherit\; font-size: 16px\; line-height: inherit\; font-family: droidsans_bold\, sans-serif\; font-optical-sizing: inherit\; font-size-adjust: inherit\; font-kerning: inherit\; font-feature-settings: inherit\; font-variation-settings: inherit\; font-language-override: inherit\; vertical-align: baseline\; color: rgb(0\, 0\, 0)\; letter-spacing: normal\; orphans: 2\; text-align: start\; text-indent: 0px\; text-transform: none\; widows: 2\; word-spacing: 0px\; -webkit-text-stroke-width: 0px\; white-space: normal\; text-decoration-thickness: initial\; text-decoration-style: initial\; text-decoration-color: initial\;" style="box-sizing: inherit\; margin: 0px\; padding: 0px\; border: 0px\; font-style: normal\; font-variant-ligatures: normal\; font-variant-caps: normal\; font-variant-numeric: inherit\; font-variant-east-asian: inherit\; font-variant-alternates: inherit\; font-variant-position: inherit\; font-variant-emoji: inherit\; font-weight: inherit\; font-stretch: inherit\; font-size: 16px\; line-height: inherit\; font-family: droidsans_bold\, sans-serif\; font-optical-sizing: inherit\; font-size-adjust: inherit\; font-kerning: inherit\; font-feature-settings: inherit\; font-variation-settings: inherit\; font-language-override: inherit\; vertical-align: baseline\; color: rgb(0\, 0\, 0)\; letter-spacing: normal\; orphans: 2\; text-align: start\; text-indent: 0px\; text-transform: none\; widows: 2\; word-spacing: 0px\; -webkit-text-stroke-width: 0px\; white-space: normal\; text-decoration-thickness: initial\; text-decoration-style: initial\; text-decoration-color: initial\;">Proceeds from your Fish Out of Water 5K registration supports the <a fr-original-style="box-sizing: inherit\; margin: 0px\; padding: 0px\; border: 0px\; font: inherit\; vertical-align: baseline\; transition: text-decoration 0.15s\, -webkit-text-decoration 0.15s\; color: rgb(27\, 81\, 164)\;" href="http://www.reef.org/oceans-for-all" style="box-sizing: inherit\; margin: 0px\; padding: 0px\; border: 0px\; font: inherit\; vertical-align: baseline\; transition: text-decoration 0.15s\, -webkit-text-decoration 0.15s\; color: rgb(27\, 81\, 164)\; user-select: auto\;">REEF&nbsp\;Oceans for All Fund</a>\, which p</strong><span style='color: rgb(0\, 0\, 0)\; font-family: droidsans_regular\, "Droid Sans"\, Tahoma\, Verdana\, sans-serif\; font-size: 16px\; font-style: normal\; font-variant-ligatures: normal\; font-variant-caps: normal\; font-weight: 400\; letter-spacing: normal\; orphans: 2\; text-align: start\; text-indent: 0px\; text-transform: none\; widows: 2\; word-spacing: 0px\; -webkit-text-stroke-width: 0px\; white-space: normal\; text-decoration-thickness: initial\; text-decoration-style: initial\; text-decoration-color: initial\; display: inline !important\; float: none\;'>rovides support for individuals who have had limited opportunities to learn about\, experience\, and explore the ocean through REEF&#39\;s programs. By participating in the race\, you&#39\;re making a difference in the lives of individuals and the health of the oceans.</span><br><br><span style='color: rgb(0\, 0\, 0)\; font-family: droidsans_regular\, "Droid Sans"\, Tahoma\, Verdana\, sans-serif\; font-size: 16px\; font-style: normal\; font-variant-ligatures: normal\; font-variant-caps: normal\; font-weight: 400\; letter-spacing: normal\; orphans: 2\; text-align: start\; text-indent: 0px\; text-transform: none\; widows: 2\; word-spacing: 0px\; -webkit-text-stroke-width: 0px\; white-space: normal\; text-decoration-thickness: initial\; text-decoration-style: initial\; text-decoration-color: initial\; display: inline !important\; float: none\;'><span style='color: rgb(0\, 0\, 0)\; font-family: droidsans_regular\, "Droid Sans"\, Tahoma\, Verdana\, sans-serif\; font-size: 16px\; font-style: normal\; font-variant-ligatures: normal\; font-variant-caps: normal\; font-weight: 400\; letter-spacing: normal\; orphans: 2\; text-align: start\; text-indent: 0px\; text-transform: none\; widows: 2\; word-spacing: 0px\; -webkit-text-stroke-width: 0px\; white-space: normal\; text-decoration-thickness: initial\; text-decoration-style: initial\; text-decoration-color: initial\; display: inline !important\; float: none\;'>Make a difference with REEF &ndash\; join us for the Fish Out of Water Virtual 5K!&nbsp\;</span> Learn more about the race\, the 2026 fish teams\, and sign up now at&nbsp\;<a data-fr-linked="true" fr-original-style="" href="https://www.REEF.org/5K" style="user-select: auto\; color: inherit\;">https://www.REEF.org/5K</a>.&nbsp\;&nbsp\;</span></p></body></html>
LOCATION:
UID:e.4472.1435244
SEQUENCE:3
DTSTAMP:20260425T160707Z
URL:http://keylargochamberofcommerce.growthzoneapp.com/eventcalendar/Details/reef-fish-out-of-water-5k-1698891?sourceTypeId=Hub
END:VEVENT
END:VCALENDAR
