BEGIN:VCALENDAR
VERSION:2.0
PRODID:-//ChamberMaster//Event Calendar 2.0//EN
METHOD:PUBLISH
X-PUBLISHED-TTL:P1H
REFRESH-INTERVAL:P1H
CALSCALE:GREGORIAN
BEGIN:VTIMEZONE
TZID:America/New_York
BEGIN:DAYLIGHT
RRULE:FREQ=YEARLY;BYMONTH=3;BYDAY=2SU
DTSTART:20070101T000000
TZOFFSETFROM:-0500
TZOFFSETTO:-0400
TZNAME:Eastern Daylight Time
END:DAYLIGHT
BEGIN:STANDARD
RRULE:FREQ=YEARLY;BYMONTH=11;BYDAY=1SU
DTSTART:20070101T000000
TZOFFSETFROM:-0400
TZOFFSETTO:-0500
TZNAME:Eastern Standard Time
END:STANDARD
END:VTIMEZONE
BEGIN:VEVENT
DTSTART;TZID=America/New_York:20260418T110000
DTEND;TZID=America/New_York:20260418T120000
X-MICROSOFT-CDO-ALLDAYEVENT:FALSE
SUMMARY:Science Saturdays- Endangered Species: Grouper Moon
DESCRIPTION:Join us for a free community science lesson and activity in our Science Discovery Classroom! Dive into REEF's ongoing collaboration with the Cayman Islands Department of Environment and scientists from UC San Diego and Oregon State to study and protect the Nassau Grouper\, a keystone Caribbean species. Better understand how stakeholders play a role in species protection.All ages welcome!
X-ALT-DESC;FMTTYPE=text/html:<!DOCTYPE html><html><head><title></title></head><body aria-disabled="false"><p>Join us for a free community science lesson and activity in our Science Discovery Classroom! Dive into REEF&rsquo\;s ongoing collaboration with the Cayman Islands Department of Environment and scientists from UC San Diego and Oregon State to study and protect the Nassau Grouper\, a keystone Caribbean species. Better understand how stakeholders play a role in species protection.</p><p>All ages welcome!</p></body></html>
LOCATION:
UID:e.4472.1434166
SEQUENCE:3
DTSTAMP:20260425T160608Z
URL:http://keylargochamberofcommerce.growthzoneapp.com/eventcalendar/Details/science-saturdays-endangered-species-grouper-moon-1697716?sourceTypeId=Hub
END:VEVENT
END:VCALENDAR
