BEGIN:VCALENDAR
VERSION:2.0
PRODID:-//ChamberMaster//Event Calendar 2.0//EN
METHOD:PUBLISH
X-PUBLISHED-TTL:P1H
REFRESH-INTERVAL:P1H
CALSCALE:GREGORIAN
BEGIN:VTIMEZONE
TZID:America/New_York
BEGIN:DAYLIGHT
RRULE:FREQ=YEARLY;BYMONTH=3;BYDAY=2SU
DTSTART:20070101T000000
TZOFFSETFROM:-0500
TZOFFSETTO:-0400
TZNAME:Eastern Daylight Time
END:DAYLIGHT
BEGIN:STANDARD
RRULE:FREQ=YEARLY;BYMONTH=11;BYDAY=1SU
DTSTART:20070101T000000
TZOFFSETFROM:-0400
TZOFFSETTO:-0500
TZNAME:Eastern Standard Time
END:STANDARD
END:VTIMEZONE
BEGIN:VEVENT
DTSTART;TZID=America/New_York:20260404T110000
DTEND;TZID=America/New_York:20260404T120000
X-MICROSOFT-CDO-ALLDAYEVENT:FALSE
SUMMARY:Science Saturdays- Invasive Species: Lionfish
DESCRIPTION:Join us for a free community science lesson and activity in our Science Discovery Classroom! This week learn about the spread of the invasive lionfish in the Florida Keys and how it has impacted the ecosystem. Then\, watch an educational lionfish dissection and learn how to get involved in our removal efforts!All ages welcome!
X-ALT-DESC;FMTTYPE=text/html:<!DOCTYPE html><html><head><title></title></head><body aria-disabled="false"><p style='box-sizing: inherit\; margin: 0px 0px 1em\; padding: 0px\; border: 0px\; font-style: normal\; font-variant-ligatures: normal\; font-variant-caps: normal\; font-variant-numeric: inherit\; font-variant-east-asian: inherit\; font-variant-alternates: inherit\; font-variant-position: inherit\; font-variant-emoji: inherit\; font-weight: 400\; font-stretch: inherit\; font-size: 16px\; line-height: inherit\; font-family: droidsans_regular\, "Droid Sans"\, Tahoma\, Verdana\, sans-serif\; font-optical-sizing: inherit\; font-size-adjust: inherit\; font-kerning: inherit\; font-feature-settings: inherit\; font-variation-settings: inherit\; font-language-override: inherit\; vertical-align: baseline\; color: rgb(0\, 0\, 0)\; letter-spacing: normal\; orphans: 2\; text-align: start\; text-indent: 0px\; text-transform: none\; widows: 2\; word-spacing: 0px\; -webkit-text-stroke-width: 0px\; white-space: normal\; text-decoration-thickness: initial\; text-decoration-style: initial\; text-decoration-color: initial\;'>Join us for a free community science lesson and activity in our Science Discovery Classroom! This week learn about the spread of the invasive lionfish in the Florida Keys and how it has impacted the ecosystem. Then\, watch an educational lionfish dissection and learn how to get involved in our removal efforts!</p><p style='box-sizing: inherit\; margin: 0px 0px 1em\; padding: 0px\; border: 0px\; font-style: normal\; font-variant-ligatures: normal\; font-variant-caps: normal\; font-variant-numeric: inherit\; font-variant-east-asian: inherit\; font-variant-alternates: inherit\; font-variant-position: inherit\; font-variant-emoji: inherit\; font-weight: 400\; font-stretch: inherit\; font-size: 16px\; line-height: inherit\; font-family: droidsans_regular\, "Droid Sans"\, Tahoma\, Verdana\, sans-serif\; font-optical-sizing: inherit\; font-size-adjust: inherit\; font-kerning: inherit\; font-feature-settings: inherit\; font-variation-settings: inherit\; font-language-override: inherit\; vertical-align: baseline\; color: rgb(0\, 0\, 0)\; letter-spacing: normal\; orphans: 2\; text-align: start\; text-indent: 0px\; text-transform: none\; widows: 2\; word-spacing: 0px\; -webkit-text-stroke-width: 0px\; white-space: normal\; text-decoration-thickness: initial\; text-decoration-style: initial\; text-decoration-color: initial\;'>All ages welcome!</p></body></html>
LOCATION:
UID:e.4472.1434115
SEQUENCE:3
DTSTAMP:20260425T160633Z
URL:http://keylargochamberofcommerce.growthzoneapp.com/eventcalendar/Details/science-saturdays-invasive-species-lionfish-1697672?sourceTypeId=Hub
END:VEVENT
END:VCALENDAR
