BEGIN:VCALENDAR
VERSION:2.0
PRODID:-//ChamberMaster//Event Calendar 2.0//EN
METHOD:PUBLISH
X-PUBLISHED-TTL:P1H
REFRESH-INTERVAL:P1H
CALSCALE:GREGORIAN
BEGIN:VTIMEZONE
TZID:America/New_York
BEGIN:DAYLIGHT
RRULE:FREQ=YEARLY;BYMONTH=3;BYDAY=2SU
DTSTART:20070101T000000
TZOFFSETFROM:-0500
TZOFFSETTO:-0400
TZNAME:Eastern Daylight Time
END:DAYLIGHT
BEGIN:STANDARD
RRULE:FREQ=YEARLY;BYMONTH=11;BYDAY=1SU
DTSTART:20070101T000000
TZOFFSETFROM:-0400
TZOFFSETTO:-0500
TZNAME:Eastern Standard Time
END:STANDARD
END:VTIMEZONE
BEGIN:VEVENT
DTSTART;TZID=America/New_York:20260411T110000
DTEND;TZID=America/New_York:20260411T120000
X-MICROSOFT-CDO-ALLDAYEVENT:FALSE
SUMMARY:Science Saturdays- Marine Ecology
DESCRIPTION:Join us for a free community science lesson and activity in our Science Discovery Classroom! This week explore Florida Keys ecosystems by examining local animals and plants and learning how they are all interconnected. Discover the unique benefits of each ecosystem.All ages welcome!
X-ALT-DESC;FMTTYPE=text/html:<!DOCTYPE html><html><head><title></title></head><body aria-disabled="false"><p>Join us for a free community science lesson and activity in our Science Discovery Classroom! This week explore Florida Keys ecosystems by examining local animals and plants and learning how they are all interconnected. Discover the unique benefits of each ecosystem.</p><p>All ages welcome!</p></body></html>
LOCATION:
UID:e.4472.1434131
SEQUENCE:3
DTSTAMP:20260425T160608Z
URL:http://keylargochamberofcommerce.growthzoneapp.com/eventcalendar/Details/science-saturdays-marine-ecology-1697681?sourceTypeId=Hub
END:VEVENT
END:VCALENDAR
