BEGIN:VCALENDAR
VERSION:2.0
PRODID:-//ChamberMaster//Event Calendar 2.0//EN
METHOD:PUBLISH
X-PUBLISHED-TTL:P1H
REFRESH-INTERVAL:P1H
CALSCALE:GREGORIAN
BEGIN:VTIMEZONE
TZID:America/New_York
BEGIN:DAYLIGHT
RRULE:FREQ=YEARLY;BYMONTH=3;BYDAY=2SU
DTSTART:20070101T000000
TZOFFSETFROM:-0500
TZOFFSETTO:-0400
TZNAME:Eastern Daylight Time
END:DAYLIGHT
BEGIN:STANDARD
RRULE:FREQ=YEARLY;BYMONTH=11;BYDAY=1SU
DTSTART:20070101T000000
TZOFFSETFROM:-0400
TZOFFSETTO:-0500
TZNAME:Eastern Standard Time
END:STANDARD
END:VTIMEZONE
BEGIN:VEVENT
DTSTART;TZID=America/New_York:20260514T113000
DTEND;TZID=America/New_York:20260514T131500
X-MICROSOFT-CDO-ALLDAYEVENT:FALSE
SUMMARY:Social Networking Lunch Meeting "Health Insurance & You" – A Conversation with the Insurance Experts
DESCRIPTION:Social Networking Lunch Meeting "Health Insurance & You"   A Conversation with the Insurance Experts \nJoin us for a special luncheon on Thursday\, May 14\, where we will hear from a panel of Health Insurance Experts. \nConfirmed Panelists include: Carlos Henriquez - New Health Partners Kevin Ferrell - Aetna Insurance IncMercedes Mujica - Double Angel Insurance
X-ALT-DESC;FMTTYPE=text/html:<!DOCTYPE html><html><head><title></title></head><body aria-disabled="false"><p><strong fr-original-style="" style="font-weight: 700\;"><span style="font-size: 24px\;">Social Networking Lunch Meeting &quot\;Health Insurance &amp\; You&quot\; &ndash\; A Conversation with the Insurance Experts </span></strong></p><p><br></p><p><span style="font-size: 18px\;">Join us for a special luncheon on Thursday\, May 14\, where we will hear from a panel of Health Insurance Experts.&nbsp\;</span></p><p><br></p><p><span style="font-size: 18px\;"><strong fr-original-style="" style="font-weight: 700\;">Confirmed Panelists include:&nbsp\;</strong></span></p><p><span style="font-size: 18px\;">Carlos Henriquez - New Health Partners&nbsp\;</span></p><p><span style="font-size: 18px\;">Kevin Ferrell - Aetna Insurance Inc</span></p><p><span style="font-size: 18px\;">Mercedes Mujica - Double Angel Insurance</span></p><p><br></p></body></html>
LOCATION:99701 Overseas Highway Key Largo FL 33037
UID:e.4472.1420234
SEQUENCE:3
DTSTAMP:20260425T192948Z
URL:http://keylargochamberofcommerce.growthzoneapp.com/eventcalendar/Details/social-networking-lunch-meeting-health-insurance-you-a-conversation-with-the-insurance-experts-1679010?sourceTypeId=Hub
END:VEVENT
END:VCALENDAR
