BEGIN:VCALENDAR
VERSION:2.0
PRODID:-//ChamberMaster//Event Calendar 2.0//EN
METHOD:PUBLISH
X-PUBLISHED-TTL:P1H
REFRESH-INTERVAL:P1H
CALSCALE:GREGORIAN
BEGIN:VTIMEZONE
TZID:America/New_York
BEGIN:DAYLIGHT
RRULE:FREQ=YEARLY;BYMONTH=3;BYDAY=2SU
DTSTART:20070101T000000
TZOFFSETFROM:-0500
TZOFFSETTO:-0400
TZNAME:Eastern Daylight Time
END:DAYLIGHT
BEGIN:STANDARD
RRULE:FREQ=YEARLY;BYMONTH=11;BYDAY=1SU
DTSTART:20070101T000000
TZOFFSETFROM:-0400
TZOFFSETTO:-0500
TZNAME:Eastern Standard Time
END:STANDARD
END:VTIMEZONE
BEGIN:VEVENT
DTSTART;TZID=America/New_York:20260611T113000
DTEND;TZID=America/New_York:20260611T131500
X-MICROSOFT-CDO-ALLDAYEVENT:FALSE
SUMMARY:Social Networking Lunch Meeting "Legislative Update" – A Conversation with Senator Ana Maria Rodriguez
DESCRIPTION:Social Networking Lunch Meeting "Legislative Update"   A Conversation with Senator Ana Maria Rodriguez \nJoin us at the beautiful Baker's Cay Resort Key Largo for a Legislative Update from Senator Ana Maria Rodriguez.\nSponsored by Regan Roth Insurance.\nBaker's Cay Resort co-sponsoring\nREGISTER NOW!
X-ALT-DESC;FMTTYPE=text/html:<!DOCTYPE html><html><head><title></title></head><body aria-disabled="false"><p>Social Networking Lunch Meeting &quot\;Legislative Update&quot\; &ndash\; A Conversation with Senator Ana Maria Rodriguez&nbsp\;</p><p><br></p><p>Join us at the beautiful Baker&#39\;s Cay Resort Key Largo for a Legislative Update from Senator Ana Maria Rodriguez.</p><p><br></p><p>Sponsored by Regan Roth Insurance.</p><p><br></p><p>Baker&#39\;s Cay Resort co-sponsoring</p><p><br></p><p><a fr-original-style="" href="https://keylargochamberofcommerce.growthzoneapp.com/ap/Events/Register/3BFgYNXHYCQCg" style="user-select: auto\;"><strong fr-original-style="" style="font-weight: 700\;">REGISTER NOW!</strong></a></p><p><br></p></body></html>
LOCATION:97000 Overseas Highway Key Largo FL 33037
UID:e.4472.1433039
SEQUENCE:3
DTSTAMP:20260425T160707Z
URL:http://keylargochamberofcommerce.growthzoneapp.com/eventcalendar/Details/social-networking-lunch-meeting-legislative-update-a-conversation-with-senator-ana-maria-rodriguez-1696283?sourceTypeId=Hub
END:VEVENT
END:VCALENDAR
