BEGIN:VCALENDAR
VERSION:2.0
PRODID:-//ChamberMaster//Event Calendar 2.0//EN
METHOD:PUBLISH
X-PUBLISHED-TTL:P1H
REFRESH-INTERVAL:P1H
CALSCALE:GREGORIAN
BEGIN:VTIMEZONE
TZID:America/New_York
BEGIN:DAYLIGHT
RRULE:FREQ=YEARLY;BYMONTH=3;BYDAY=2SU
DTSTART:20070101T000000
TZOFFSETFROM:-0500
TZOFFSETTO:-0400
TZNAME:Eastern Daylight Time
END:DAYLIGHT
BEGIN:STANDARD
RRULE:FREQ=YEARLY;BYMONTH=11;BYDAY=1SU
DTSTART:20070101T000000
TZOFFSETFROM:-0400
TZOFFSETTO:-0500
TZNAME:Eastern Standard Time
END:STANDARD
END:VTIMEZONE
BEGIN:VEVENT
DTSTART;TZID=America/New_York:20260709T113000
DTEND;TZID=America/New_York:20260709T131500
X-MICROSOFT-CDO-ALLDAYEVENT:FALSE
SUMMARY:Social Networking Lunch Meeting "State of the County" – A Conversation with Mayor Michelle Lincoln
DESCRIPTION:Join us at Playa Largo Resort Key Largo to hear the State of the County from Mayor Michelle Lincoln
X-ALT-DESC;FMTTYPE=text/html:<!DOCTYPE html><html><head><title></title></head><body aria-disabled="false"><p>Join us at Playa Largo Resort Key Largo to hear the State of the County from Mayor Michelle Lincoln</p></body></html>
LOCATION:97450 Overseas Highway Key Largo FL 33037
UID:e.4472.1433046
SEQUENCE:3
DTSTAMP:20260425T192947Z
URL:http://keylargochamberofcommerce.growthzoneapp.com/eventcalendar/Details/social-networking-lunch-meeting-state-of-the-county-a-conversation-with-mayor-michelle-lincoln-1696291?sourceTypeId=Hub
END:VEVENT
END:VCALENDAR
