BEGIN:VCALENDAR
VERSION:2.0
PRODID:-//ChamberMaster//Event Calendar 2.0//EN
METHOD:PUBLISH
X-PUBLISHED-TTL:P1H
REFRESH-INTERVAL:P1H
CALSCALE:GREGORIAN
BEGIN:VTIMEZONE
TZID:America/New_York
BEGIN:DAYLIGHT
RRULE:FREQ=YEARLY;BYMONTH=3;BYDAY=2SU
DTSTART:20070101T000000
TZOFFSETFROM:-0500
TZOFFSETTO:-0400
TZNAME:Eastern Daylight Time
END:DAYLIGHT
BEGIN:STANDARD
RRULE:FREQ=YEARLY;BYMONTH=11;BYDAY=1SU
DTSTART:20070101T000000
TZOFFSETFROM:-0400
TZOFFSETTO:-0500
TZNAME:Eastern Standard Time
END:STANDARD
END:VTIMEZONE
BEGIN:VEVENT
DTSTART;TZID=America/New_York:20260813T113000
DTEND;TZID=America/New_York:20260813T131500
X-MICROSOFT-CDO-ALLDAYEVENT:FALSE
SUMMARY:Social Networking Lunch Meeting "Visit Florida Tourism Update" – A Conversation with Bryan Griffin CEO
DESCRIPTION:Social Networking Lunch Meeting "Visit Florida Tourism Update" – A Conversation with Bryan Griffin CEO\n\nJoin us at Holiday Inn Key Largo for an update on Florida Tourism from Visit Florida CEO Bryan Griffin.
X-ALT-DESC;FMTTYPE=text/html:Social Networking Lunch Meeting "Visit Florida Tourism Update" – A Conversation with Bryan Griffin CEO\n\nJoin us at Holiday Inn Key Largo for an update on Florida Tourism from Visit Florida CEO Bryan Griffin.
LOCATION:99701 Overseas Highway Key Largo FL 33037
UID:e.4472.1433080
SEQUENCE:3
DTSTAMP:20260425T160707Z
URL:http://keylargochamberofcommerce.growthzoneapp.com/eventcalendar/Details/social-networking-lunch-meeting-visit-florida-tourism-update-a-conversation-with-bryan-griffin-ceo-1696325?sourceTypeId=Hub
END:VEVENT
END:VCALENDAR
